BEGIN:VCALENDAR
VERSION:2.0
PRODID:-//Frontier Counties Development Council - ECPv6.15.18//NONSGML v1.0//EN
CALSCALE:GREGORIAN
METHOD:PUBLISH
X-ORIGINAL-URL:https://fcdc.or.ke
X-WR-CALDESC:Events for Frontier Counties Development Council
REFRESH-INTERVAL;VALUE=DURATION:PT1H
X-Robots-Tag:noindex
X-PUBLISHED-TTL:PT1H
BEGIN:VTIMEZONE
TZID:Africa/Nairobi
BEGIN:STANDARD
TZOFFSETFROM:+0300
TZOFFSETTO:+0300
TZNAME:EAT
DTSTART:20240101T000000
END:STANDARD
END:VTIMEZONE
BEGIN:VEVENT
DTSTART;TZID=Africa/Nairobi:20250626T080000
DTEND;TZID=Africa/Nairobi:20250626T121500
DTSTAMP:20260421T084753
CREATED:20250612T152731Z
LAST-MODIFIED:20250621T095229Z
UID:6802-1750924800-1750940100@fcdc.or.ke
SUMMARY:Launch of FCDC Blue Economy Multi Agency Action Plan 2025-2030
DESCRIPTION:Kenya Maritime Authority (KMA) has entered into a collaboration with the Frontier Counties Development Council (FCDC) to spearhead the establishment of the FCDC Blue Economy Multi-Agency Action Plan (FCDC-BEMAP)2025-2030
URL:https://fcdc.or.ke/event/launch-of-blue-economy/
LOCATION:KICC\, Kenyatta International Convention Center\, Nairobi\, Nairobi\, Kenya
CATEGORIES:FCDC-BEMAP
ATTACH;FMTTYPE=image/jpeg:https://fcdc.or.ke/wp-content/uploads/2025/06/fcdc-bemap.jpg
ORGANIZER;CN="Kenya Maritime Authority (KMA)":MAILTO:info@kma.go.ke
END:VEVENT
END:VCALENDAR